BEGIN:VCALENDAR
VERSION:2.0
PRODID:https://www.kufer.de/kuferweb / DE
METHOD:PUBLISH
CALSCALE:GREGORIAN
X-WR-TIMEZONE:Europe/Berlin
BEGIN:VTIMEZONE
TZID:Europe/Berlin
X-LIC-LOCATION:Europe/Berlin
BEGIN:DAYLIGHT
TZOFFSETFROM:+0100
TZOFFSETTO:+0200
TZNAME:CEST
DTSTART:19700329T020000
RRULE:FREQ=YEARLY;INTERVAL=1;BYDAY=-1SU;BYMONTH=3
END:DAYLIGHT
BEGIN:STANDARD
TZOFFSETFROM:+0200
TZOFFSETTO:+0100
TZNAME:CET
DTSTART:19701025T030000
RRULE:FREQ=YEARLY;INTERVAL=1;BYDAY=-1SU;BYMONTH=10
END:STANDARD
END:VTIMEZONE
BEGIN:VEVENT
DTSTAMP:20260421T140138
DTSTART;TZID=Europe/Berlin:20260508T170000
DTEND;TZID=Europe/Berlin:20260508T183000
UID:26A10511-20260508T170000@VHSHEIDEKREIS GGMBH
SUMMARY:Social Walk für Mensch & Hund Lernen auf vier Pfoten - entspannt gemeinsam unterwegs (26A10511) 
LOCATION:Eickeloh - Schützenhaus - Parkplatz, Am Bahnhof 2, 29693 Eickeloh
END:VEVENT
BEGIN:VEVENT
DTSTAMP:20260421T140138
DTSTART;TZID=Europe/Berlin:20260515T170000
DTEND;TZID=Europe/Berlin:20260515T183000
UID:26A10511-20260515T170000@VHSHEIDEKREIS GGMBH
SUMMARY:Social Walk für Mensch & Hund Lernen auf vier Pfoten - entspannt gemeinsam unterwegs (26A10511) 
LOCATION:Eickeloh - Schützenhaus - Parkplatz, Am Bahnhof 2, 29693 Eickeloh
END:VEVENT
BEGIN:VEVENT
DTSTAMP:20260421T140138
DTSTART;TZID=Europe/Berlin:20260522T170000
DTEND;TZID=Europe/Berlin:20260522T183000
UID:26A10511-20260522T170000@VHSHEIDEKREIS GGMBH
SUMMARY:Social Walk für Mensch & Hund Lernen auf vier Pfoten - entspannt gemeinsam unterwegs (26A10511) 
LOCATION:Eickeloh - Schützenhaus - Parkplatz, Am Bahnhof 2, 29693 Eickeloh
END:VEVENT
BEGIN:VEVENT
DTSTAMP:20260421T140138
DTSTART;TZID=Europe/Berlin:20260529T170000
DTEND;TZID=Europe/Berlin:20260529T183000
UID:26A10511-20260529T170000@VHSHEIDEKREIS GGMBH
SUMMARY:Social Walk für Mensch & Hund Lernen auf vier Pfoten - entspannt gemeinsam unterwegs (26A10511) 
LOCATION:Eickeloh - Schützenhaus - Parkplatz, Am Bahnhof 2, 29693 Eickeloh
END:VEVENT
END:VCALENDAR